BEGIN:VCALENDAR
VERSION:2.0
PRODID:-//Elements Magazine - ECPv6.15.20//NONSGML v1.0//EN
CALSCALE:GREGORIAN
METHOD:PUBLISH
X-WR-CALNAME:Elements Magazine
X-ORIGINAL-URL:https://www.elementsmagazine.org
X-WR-CALDESC:Events for Elements Magazine
REFRESH-INTERVAL;VALUE=DURATION:PT1H
X-Robots-Tag:noindex
X-PUBLISHED-TTL:PT1H
BEGIN:VTIMEZONE
TZID:UTC
BEGIN:STANDARD
TZOFFSETFROM:+0000
TZOFFSETTO:+0000
TZNAME:UTC
DTSTART:20230101T000000
END:STANDARD
END:VTIMEZONE
BEGIN:VEVENT
DTSTART;VALUE=DATE:20240523
DTEND;VALUE=DATE:20240525
DTSTAMP:20260423T111058
CREATED:20240328T195517Z
LAST-MODIFIED:20240328T195517Z
UID:35623-1716422400-1716595199@www.elementsmagazine.org
SUMMARY:10th International Geosciences Conference of Young Researchers
DESCRIPTION:May 23 – 24 10th International Geosciences Conference of Young Researchers\, Kyiv\, Ukraine
URL:https://www.elementsmagazine.org/event/10th-international-geosciences-conference-of-young-researchers/
LOCATION:10th International Geosciences Conference of Young Researchers\, Kyiv\, Ukraine
END:VEVENT
END:VCALENDAR