BEGIN:VCALENDAR
VERSION:2.0
PRODID:-//Elements Magazine - ECPv6.15.20//NONSGML v1.0//EN
CALSCALE:GREGORIAN
METHOD:PUBLISH
X-WR-CALNAME:Elements Magazine
X-ORIGINAL-URL:https://www.elementsmagazine.org
X-WR-CALDESC:Events for Elements Magazine
REFRESH-INTERVAL;VALUE=DURATION:PT1H
X-Robots-Tag:noindex
X-PUBLISHED-TTL:PT1H
BEGIN:VTIMEZONE
TZID:UTC
BEGIN:STANDARD
TZOFFSETFROM:+0000
TZOFFSETTO:+0000
TZNAME:UTC
DTSTART:20230101T000000
END:STANDARD
END:VTIMEZONE
BEGIN:VEVENT
DTSTART;VALUE=DATE:20240930
DTEND;VALUE=DATE:20241005
DTSTAMP:20260423T064346
CREATED:20240328T223710Z
LAST-MODIFIED:20240328T223710Z
UID:35712-1727654400-1728086399@www.elementsmagazine.org
SUMMARY:7th Orogenic Lherzolite Meeting
DESCRIPTION:September 30 – October 4 7th Orogenic Lherzolite Meeting\, Oviedo\, Spain
URL:https://www.elementsmagazine.org/event/7th-orogenic-lherzolite-meeting/
LOCATION:7th Orogenic Lherzolite Meeting\, Oviedo\, Spain
END:VEVENT
END:VCALENDAR