BEGIN:VCALENDAR
VERSION:2.0
PRODID:-//Elements Magazine - ECPv6.15.20//NONSGML v1.0//EN
CALSCALE:GREGORIAN
METHOD:PUBLISH
X-WR-CALNAME:Elements Magazine
X-ORIGINAL-URL:https://www.elementsmagazine.org
X-WR-CALDESC:Events for Elements Magazine
REFRESH-INTERVAL;VALUE=DURATION:PT1H
X-Robots-Tag:noindex
X-PUBLISHED-TTL:PT1H
BEGIN:VTIMEZONE
TZID:UTC
BEGIN:STANDARD
TZOFFSETFROM:+0000
TZOFFSETTO:+0000
TZNAME:UTC
DTSTART:20230101T000000
END:STANDARD
END:VTIMEZONE
BEGIN:VEVENT
DTSTART;VALUE=DATE:20241006
DTEND;VALUE=DATE:20241011
DTSTAMP:20260423T080836
CREATED:20240328T223848Z
LAST-MODIFIED:20240328T223848Z
UID:35714-1728172800-1728604799@www.elementsmagazine.org
SUMMARY:ACerS 126th Annual Meeting with Materials Science and Technology 2024
DESCRIPTION:October 6 – 10 ACerS 126th Annual Meeting with Materials Science and Technology 2024\, Pittsburgh\, PA USA
URL:https://www.elementsmagazine.org/event/acers-126th-annual-meeting-with-materials-science-and-technology-2024/
LOCATION:ACerS 126th Annual Meeting with Materials Science and Technology 2024\, Pittsburgh\, United States
END:VEVENT
END:VCALENDAR