BEGIN:VCALENDAR
VERSION:2.0
PRODID:-//Elements Magazine - ECPv6.15.20//NONSGML v1.0//EN
CALSCALE:GREGORIAN
METHOD:PUBLISH
X-WR-CALNAME:Elements Magazine
X-ORIGINAL-URL:https://www.elementsmagazine.org
X-WR-CALDESC:Events for Elements Magazine
REFRESH-INTERVAL;VALUE=DURATION:PT1H
X-Robots-Tag:noindex
X-PUBLISHED-TTL:PT1H
BEGIN:VTIMEZONE
TZID:UTC
BEGIN:STANDARD
TZOFFSETFROM:+0000
TZOFFSETTO:+0000
TZNAME:UTC
DTSTART:20230101T000000
END:STANDARD
END:VTIMEZONE
BEGIN:VEVENT
DTSTART;VALUE=DATE:20240519
DTEND;VALUE=DATE:20240523
DTSTAMP:20260423T111046
CREATED:20240328T195247Z
LAST-MODIFIED:20240328T195247Z
UID:35620-1716076800-1716422399@www.elementsmagazine.org
SUMMARY:Geological Association of Canada – Mineralogical Association of Canada Annual Meeting and 10th International Symposium on Granitic Pegmatites
DESCRIPTION:May 19 – 22 Geological Association of Canada – Mineralogical Association of Canada Annual Meeting and 10th International Symposium on Granitic Pegmatites\, Brandon\, Canada
URL:https://www.elementsmagazine.org/event/geological-association-of-canada-mineralogical-association-of-canada-annual-meeting-and-10th-international-symposium-on-granitic-pegmatites/
LOCATION:Geological Association of Canada\, Brandon\, Canada
END:VEVENT
END:VCALENDAR