BEGIN:VCALENDAR
VERSION:2.0
PRODID:-//Elements Magazine - ECPv6.15.20//NONSGML v1.0//EN
CALSCALE:GREGORIAN
METHOD:PUBLISH
X-WR-CALNAME:Elements Magazine
X-ORIGINAL-URL:https://www.elementsmagazine.org
X-WR-CALDESC:Events for Elements Magazine
REFRESH-INTERVAL;VALUE=DURATION:PT1H
X-Robots-Tag:noindex
X-PUBLISHED-TTL:PT1H
BEGIN:VTIMEZONE
TZID:UTC
BEGIN:STANDARD
TZOFFSETFROM:+0000
TZOFFSETTO:+0000
TZNAME:UTC
DTSTART:20230101T000000
END:STANDARD
END:VTIMEZONE
BEGIN:VEVENT
DTSTART;VALUE=DATE:20240903
DTEND;VALUE=DATE:20240907
DTSTAMP:20260423T064347
CREATED:20240328T215004Z
LAST-MODIFIED:20240328T215004Z
UID:35693-1725321600-1725667199@www.elementsmagazine.org
SUMMARY:Granulites & Granulites 2024
DESCRIPTION:September 3 – 6 Granulites & Granulites 2024\, Verbania\, Italy
URL:https://www.elementsmagazine.org/event/granulites-granulites-2024/
LOCATION:Granulites & Granulites 2024\, Verbania\, Italy
END:VEVENT
END:VCALENDAR