BEGIN:VCALENDAR
VERSION:2.0
PRODID:-//Elements Magazine - ECPv6.15.20//NONSGML v1.0//EN
CALSCALE:GREGORIAN
METHOD:PUBLISH
X-WR-CALNAME:Elements Magazine
X-ORIGINAL-URL:https://www.elementsmagazine.org
X-WR-CALDESC:Events for Elements Magazine
REFRESH-INTERVAL;VALUE=DURATION:PT1H
X-Robots-Tag:noindex
X-PUBLISHED-TTL:PT1H
BEGIN:VTIMEZONE
TZID:UTC
BEGIN:STANDARD
TZOFFSETFROM:+0000
TZOFFSETTO:+0000
TZNAME:UTC
DTSTART:20230101T000000
END:STANDARD
END:VTIMEZONE
BEGIN:VEVENT
DTSTART;VALUE=DATE:20240923
DTEND;VALUE=DATE:20240926
DTSTAMP:20260423T064216
CREATED:20240328T223525Z
LAST-MODIFIED:20240328T223525Z
UID:35710-1727049600-1727308799@www.elementsmagazine.org
SUMMARY:Serpentine Days
DESCRIPTION:September 23 – 25 Serpentine Days\, Granada\, Spain.
URL:https://www.elementsmagazine.org/event/serpentine-days/
LOCATION:Serpentine Days\, Granada\, Spain
END:VEVENT
END:VCALENDAR