BEGIN:VCALENDAR
VERSION:2.0
PRODID:-//Elements Magazine - ECPv6.15.20//NONSGML v1.0//EN
CALSCALE:GREGORIAN
METHOD:PUBLISH
X-WR-CALNAME:Elements Magazine
X-ORIGINAL-URL:https://www.elementsmagazine.org
X-WR-CALDESC:Events for Elements Magazine
REFRESH-INTERVAL;VALUE=DURATION:PT1H
X-Robots-Tag:noindex
X-PUBLISHED-TTL:PT1H
BEGIN:VTIMEZONE
TZID:UTC
BEGIN:STANDARD
TZOFFSETFROM:+0000
TZOFFSETTO:+0000
TZNAME:UTC
DTSTART:20230101T000000
END:STANDARD
END:VTIMEZONE
BEGIN:VEVENT
DTSTART;VALUE=DATE:20240722
DTEND;VALUE=DATE:20240726
DTSTAMP:20260423T092731
CREATED:20240328T210746Z
LAST-MODIFIED:20240328T213500Z
UID:35656-1721606400-1721951999@www.elementsmagazine.org
SUMMARY:Tenth International Conference on Mars
DESCRIPTION:July 22 – 25 Tenth International Conference on Mars\, Pasadena\, CA USA and Virtual
URL:https://www.elementsmagazine.org/event/tenth-international-conference-on-mars/
LOCATION:Tenth International Conference on Mars\, Pasadena\, United States
END:VEVENT
END:VCALENDAR