BEGIN:VCALENDAR
VERSION:2.0
PRODID:-//Elements Magazine - ECPv6.15.20//NONSGML v1.0//EN
CALSCALE:GREGORIAN
METHOD:PUBLISH
X-ORIGINAL-URL:https://www.elementsmagazine.org
X-WR-CALDESC:Events for Elements Magazine
REFRESH-INTERVAL;VALUE=DURATION:PT1H
X-Robots-Tag:noindex
X-PUBLISHED-TTL:PT1H
BEGIN:VTIMEZONE
TZID:UTC
BEGIN:STANDARD
TZOFFSETFROM:+0000
TZOFFSETTO:+0000
TZNAME:UTC
DTSTART:20240101T000000
END:STANDARD
END:VTIMEZONE
BEGIN:VTIMEZONE
TZID:America/Denver
BEGIN:DAYLIGHT
TZOFFSETFROM:-0700
TZOFFSETTO:-0600
TZNAME:MDT
DTSTART:20250309T090000
END:DAYLIGHT
BEGIN:STANDARD
TZOFFSETFROM:-0600
TZOFFSETTO:-0700
TZNAME:MST
DTSTART:20251102T080000
END:STANDARD
BEGIN:DAYLIGHT
TZOFFSETFROM:-0700
TZOFFSETTO:-0600
TZNAME:MDT
DTSTART:20260308T090000
END:DAYLIGHT
BEGIN:STANDARD
TZOFFSETFROM:-0600
TZOFFSETTO:-0700
TZNAME:MST
DTSTART:20261101T080000
END:STANDARD
BEGIN:DAYLIGHT
TZOFFSETFROM:-0700
TZOFFSETTO:-0600
TZNAME:MDT
DTSTART:20270314T090000
END:DAYLIGHT
BEGIN:STANDARD
TZOFFSETFROM:-0600
TZOFFSETTO:-0700
TZNAME:MST
DTSTART:20271107T080000
END:STANDARD
END:VTIMEZONE
BEGIN:VEVENT
DTSTART;VALUE=DATE:20250706
DTEND;VALUE=DATE:20250712
DTSTAMP:20260423T200506
CREATED:20240328T234040Z
LAST-MODIFIED:20240328T234040Z
UID:10000066-1751760000-1752278399@www.elementsmagazine.org
SUMMARY:2025 Goldschmidt Conference
DESCRIPTION:July 6 – 11 2025 Goldschmidt Conference\, Prague\, Czech Republic
URL:https://www.elementsmagazine.org/event/2025-goldschmidt-conference/
LOCATION:2025 Goldschmidt Conference\, Prague\, Czech Republic
END:VEVENT
BEGIN:VEVENT
DTSTART;VALUE=DATE:20250713
DTEND;VALUE=DATE:20250719
DTSTAMP:20260423T200506
CREATED:20240328T234246Z
LAST-MODIFIED:20240328T234246Z
UID:10000067-1752364800-1752883199@www.elementsmagazine.org
SUMMARY:AIPEA International Clay Conference
DESCRIPTION:July 13 – 18 AIPEA International Clay Conference\, Dublin\, Ireland.
URL:https://www.elementsmagazine.org/event/aipea-international-clay-conference/
LOCATION:AIPEA International Clay Conference\, Dublin\, Ireland
END:VEVENT
BEGIN:VEVENT
DTSTART;TZID=UTC:20250713T080000
DTEND;TZID=UTC:20250718T170000
DTSTAMP:20260423T200506
CREATED:20250205T133227Z
LAST-MODIFIED:20250205T133227Z
UID:10000096-1752393600-1752858000@www.elementsmagazine.org
SUMMARY:International Clay Conference
DESCRIPTION:The theme of the conference is ‘Sustaining Clays’ to emphasise the myriad roles played by clays\, clay minerals\, and the closely allied layered double hydroxides and natural zeolites in sustainable development\, the use and management of very many resources\, and their bright future in tomorrow’s world. \nOur key aim with this conference is to integrate our diverse industrial\, technological\, and academic worlds of clays and clay minerals with a blend of sessions\, workshops and field trips arranged under three sub themes where clay research and applications flourish namely “Materials and technologies”\, “Food\, Water and Environment”\, and “Terra and extra-Terra”. \nThe ICC has a long and distinguished history\, and we sincerely hope you will join us for this ultimate ICC gathering. A visit to Dublin is one of life’s ‘must-do’ items. As Ireland’s capital city\, it is littered with places of interest for delegates and accompanying persons alike. \nWe very much look forward to welcoming you to Dublin.
URL:https://www.elementsmagazine.org/event/international-clay-conference/
LOCATION:Trinity College Dublin\, Dublin\, Ireland
ATTACH;FMTTYPE=image/png:https://www.elementsmagazine.org/wp-content/uploads/2025/02/Dublin-ICC-logo-2022-final.png
ORGANIZER;CN="Steve Hillier%3B Kevin Murphy":MAILTO:kevin@minersoc.org
END:VEVENT
BEGIN:VEVENT
DTSTART;VALUE=DATE:20250714
DTEND;VALUE=DATE:20250719
DTSTAMP:20260423T200506
CREATED:20240328T234412Z
LAST-MODIFIED:20240328T234412Z
UID:10000068-1752451200-1752883199@www.elementsmagazine.org
SUMMARY:88th Annual Meeting of the Meteoritical Society
DESCRIPTION:July 14 – 18 88th Annual Meeting of the Meteoritical Society\, Perth\, Australia
URL:https://www.elementsmagazine.org/event/88th-annual-meeting-of-the-meteoritical-society/
LOCATION:88th Annual Meeting of the Meteoritical Society\, Perth\, Australia
END:VEVENT
BEGIN:VEVENT
DTSTART;VALUE=DATE:20250718
DTEND;VALUE=DATE:20250724
DTSTAMP:20260423T200506
CREATED:20240328T234531Z
LAST-MODIFIED:20240328T234531Z
UID:10000069-1752796800-1753315199@www.elementsmagazine.org
SUMMARY:75th American Crystallographic Association Annual Meeting
DESCRIPTION:July 18 – 23 75th American Crystallographic Association Annual Meeting\, Lombard\, IL USA
URL:https://www.elementsmagazine.org/event/75th-american-crystallographic-association-annual-meeting/
LOCATION:75th American Crystallographic Association Annual Meeting\, Lombard\, United States
END:VEVENT
BEGIN:VEVENT
DTSTART;VALUE=DATE:20250720
DTEND;VALUE=DATE:20250726
DTSTAMP:20260423T200506
CREATED:20240328T234659Z
LAST-MODIFIED:20240328T234659Z
UID:10000070-1752969600-1753487999@www.elementsmagazine.org
SUMMARY:Materials Challenges in Alternative & Renewable Energy 2025 (MCARE 2025) combined with the 6th Annual Energy Harvesting Society Meeting (EHS 2025)
DESCRIPTION:July 20 – 25 Materials Challenges in Alternative & Renewable Energy 2025 (MCARE 2025) combined with the 6th Annual Energy Harvesting Society Meeting (EHS 2025)\, Bellevue\, WA USA
URL:https://www.elementsmagazine.org/event/materials-challenges-in-alternative-renewable-energy-2025-mcare-2025-combined-with-the-6th-annual-energy-harvesting-society-meeting-ehs-2025/
LOCATION:Materials Challenges in Alternative & Renewable Energy 2025 (MCARE 2025) combined with the 6th Annual Energy Harvesting Society Meeting (EHS 2025)\, Bellevue\, United States
END:VEVENT
BEGIN:VEVENT
DTSTART;TZID=UTC:20250721T090000
DTEND;TZID=UTC:20250723T180000
DTSTAMP:20260423T200506
CREATED:20241206T103049Z
LAST-MODIFIED:20241206T103049Z
UID:10000089-1753088400-1753293600@www.elementsmagazine.org
SUMMARY:2nd International Summit on Applied Science\, Engineering and Technology
DESCRIPTION:Spectrum Conferences invites you to prestigious event 2nd International Summit on Applied Science\, Engineering and Technology. A premier conference focusing on the latest developments and modern trends in Applied Science\, Engineering and Technology is going to be held in Frankfurt\, Germany during July 21-23\, 2025.
URL:https://www.elementsmagazine.org/event/2nd-international-summit-on-applied-science-engineering-and-technology/
LOCATION:Frankfurt\, Germany\, Frankfurt\, Germany\, Frankfurt\, Germany\, Frankfurt\, Germany\, 60439\, Germany
ORGANIZER;CN="Spectrum Conferences":MAILTO:secretary@appliedsciencesummit.com
END:VEVENT
BEGIN:VEVENT
DTSTART;VALUE=DATE:20250817
DTEND;VALUE=DATE:20250822
DTSTAMP:20260423T200506
CREATED:20240328T234811Z
LAST-MODIFIED:20240328T234811Z
UID:10000071-1755388800-1755820799@www.elementsmagazine.org
SUMMARY:American Chemical Society Fall Meeting
DESCRIPTION:August 17 – 21 American Chemical Society Fall Meeting\, Washington DC USA
URL:https://www.elementsmagazine.org/event/american-chemical-society-fall-meeting-2/
LOCATION:American Chemical Society Fall Meeting\, Washington\, United States
END:VEVENT
BEGIN:VEVENT
DTSTART;VALUE=DATE:20251019
DTEND;VALUE=DATE:20251023
DTSTAMP:20260423T200506
CREATED:20240328T234921Z
LAST-MODIFIED:20240328T234921Z
UID:10000072-1760832000-1761177599@www.elementsmagazine.org
SUMMARY:Geological Society of American Annual Meeting
DESCRIPTION:October 19 – 22 Geological Society of American Annual Meeting\, San Antonio\, TX USA
URL:https://www.elementsmagazine.org/event/geological-society-of-american-annual-meeting/
LOCATION:Geological Society of American Annual Meeting\, Denver\, United States
END:VEVENT
BEGIN:VEVENT
DTSTART;VALUE=DATE:20251107
DTEND;VALUE=DATE:20251110
DTSTAMP:20260423T200506
CREATED:20240328T235104Z
LAST-MODIFIED:20240328T235104Z
UID:10000073-1762473600-1762732799@www.elementsmagazine.org
SUMMARY:45th New Mexico Mineral Symposium
DESCRIPTION:November 7 – 9 45th New Mexico Mineral Symposium\, Socorro\, NM USA
URL:https://www.elementsmagazine.org/event/45th-new-mexico-mineral-symposium/
LOCATION:45th New Mexico Mineral Symposium\, Socorro\, United States
END:VEVENT
BEGIN:VEVENT
DTSTART;VALUE=DATE:20260322
DTEND;VALUE=DATE:20260327
DTSTAMP:20260423T200506
CREATED:20240328T235246Z
LAST-MODIFIED:20240329T002208Z
UID:10000074-1774137600-1774569599@www.elementsmagazine.org
SUMMARY:American Chemical Society Spring Meeting
DESCRIPTION:March 22 – 26 American Chemical Society Spring Meeting\, Atlanta GA USA
URL:https://www.elementsmagazine.org/event/american-chemical-society-spring-meeting-2/
LOCATION:American Chemical Society Spring Meeting\, Atlanta\, United States
END:VEVENT
BEGIN:VEVENT
DTSTART;VALUE=DATE:20260707
DTEND;VALUE=DATE:20260712
DTSTAMP:20260423T200506
CREATED:20241204T121705Z
LAST-MODIFIED:20241204T121705Z
UID:10000087-1783382400-1783814399@www.elementsmagazine.org
SUMMARY:The Clay Minerals Society\, 63rd Annual Meeting
DESCRIPTION:This conference covers everything to do with clay minerals–in geology\, soil science\, technology\, and the origins of life. This particular meeting will have a particularly strong focus on natural nanotubes such as halloysite\, and will include a field trip to some halloysite mines.
URL:https://www.elementsmagazine.org/event/the-clay-minerals-society-63rd-annual-meeting/
LOCATION:Brigham Young University\, Provo\, UT\, 84602\, United States
ATTACH;FMTTYPE=image/png:https://www.elementsmagazine.org/wp-content/uploads/2024/12/Banner.png
ORGANIZER;CN="Barry Bickmore":MAILTO:barry_bickmore@byu.edu
END:VEVENT
BEGIN:VEVENT
DTSTART;VALUE=DATE:20260830
DTEND;VALUE=DATE:20260903
DTSTAMP:20260423T200506
CREATED:20240328T235422Z
LAST-MODIFIED:20240329T002151Z
UID:10000075-1788048000-1788393599@www.elementsmagazine.org
SUMMARY:16th Quadrennial IAGOD Symposium
DESCRIPTION:August 30 -September 2 16th Quadrennial IAGOD Symposium\, Porto\, Portugal
URL:https://www.elementsmagazine.org/event/16th-quadrennial-iagod-symposium/
LOCATION:16th Quadrennial IAGOD Symposium\, Porto\, Portugal
END:VEVENT
BEGIN:VEVENT
DTSTART;VALUE=DATE:20261011
DTEND;VALUE=DATE:20261015
DTSTAMP:20260423T200506
CREATED:20240328T235548Z
LAST-MODIFIED:20240329T002129Z
UID:10000076-1791676800-1792022399@www.elementsmagazine.org
SUMMARY:Geological Society of American Annual Meeting
DESCRIPTION:October 11 – 14 Geological Society of American Annual Meeting\, Denver CO USA
URL:https://www.elementsmagazine.org/event/geological-society-of-american-annual-meeting-2/
LOCATION:Geological Society of American Annual Meeting\, Denver\, United States
END:VEVENT
BEGIN:VEVENT
DTSTART;VALUE=DATE:20261106
DTEND;VALUE=DATE:20261109
DTSTAMP:20260423T200506
CREATED:20240328T235659Z
LAST-MODIFIED:20240329T002102Z
UID:10000077-1793923200-1794182399@www.elementsmagazine.org
SUMMARY:46th New Mexico Mineral Symposium
DESCRIPTION:November 6 – 8 46th New Mexico Mineral Symposium\, Socorro\, NM USA
URL:https://www.elementsmagazine.org/event/46th-new-mexico-mineral-symposium/
LOCATION:46th New Mexico Mineral Symposium\, New Mexico Mineral Symposium\, Socorro\, United States
END:VEVENT
END:VCALENDAR