BEGIN:VCALENDAR
VERSION:2.0
PRODID:-//Elements Magazine - ECPv6.15.20//NONSGML v1.0//EN
CALSCALE:GREGORIAN
METHOD:PUBLISH
X-WR-CALNAME:Elements Magazine
X-ORIGINAL-URL:https://www.elementsmagazine.org
X-WR-CALDESC:Events for Elements Magazine
REFRESH-INTERVAL;VALUE=DURATION:PT1H
X-Robots-Tag:noindex
X-PUBLISHED-TTL:PT1H
BEGIN:VTIMEZONE
TZID:UTC
BEGIN:STANDARD
TZOFFSETFROM:+0000
TZOFFSETTO:+0000
TZNAME:UTC
DTSTART:20230101T000000
END:STANDARD
END:VTIMEZONE
BEGIN:VEVENT
DTSTART;VALUE=DATE:20240830
DTEND;VALUE=DATE:20240903
DTSTAMP:20260423T095225
CREATED:20240328T214752Z
LAST-MODIFIED:20240328T214752Z
UID:10000047-1724976000-1725321599@www.elementsmagazine.org
SUMMARY:18th European Powder Diffraction Conference (EPDIC18)
DESCRIPTION:August 30 – September 2 18th European Powder Diffraction Conference (EPDIC18)\, Padova\, Italy.
URL:https://www.elementsmagazine.org/event/18th-european-powder-diffraction-conference-epdic18/
LOCATION:18th European Powder Diffraction Conference (EPDIC18)\, Padova\, Italy
END:VEVENT
BEGIN:VEVENT
DTSTART;VALUE=DATE:20240826
DTEND;VALUE=DATE:20240831
DTSTAMP:20260423T095225
CREATED:20240328T214612Z
LAST-MODIFIED:20240328T214612Z
UID:10000046-1724630400-1725062399@www.elementsmagazine.org
SUMMARY:European Crystallographic Meeting (ECM-24)
DESCRIPTION:August 26 – 30  European Crystallographic Meeting (ECM-24)\, Padova\, Italy
URL:https://www.elementsmagazine.org/event/european-crystallographic-meeting-ecm-24/
LOCATION:European Crystallographic Meeting (ECM-24)\, Padova\, Italy
END:VEVENT
BEGIN:VEVENT
DTSTART;VALUE=DATE:20240825
DTEND;VALUE=DATE:20240901
DTSTAMP:20260423T095225
CREATED:20240328T214406Z
LAST-MODIFIED:20240328T214406Z
UID:10000045-1724544000-1725148799@www.elementsmagazine.org
SUMMARY:37th International Geological Congress (IGC)
DESCRIPTION:August 25 – 31 37th International Geological Congress (IGC). Busan\, Republic of Korea
URL:https://www.elementsmagazine.org/event/37th-international-geological-congress-igc/
LOCATION:37th International Geological Congress (IGC)\, Busan\, Korea\, Republic of
END:VEVENT
BEGIN:VEVENT
DTSTART;VALUE=DATE:20240818
DTEND;VALUE=DATE:20240826
DTSTAMP:20260423T095225
CREATED:20240328T214206Z
LAST-MODIFIED:20240328T214206Z
UID:10000044-1723939200-1724630399@www.elementsmagazine.org
SUMMARY:2024 Goldschmidt Conference
DESCRIPTION:August 18 – 25 2024 Goldschmidt Conference\, Chicago IL USA
URL:https://www.elementsmagazine.org/event/2024-goldschmidt-conference/
LOCATION:2024 Goldschmidt Conference\, Chicago\, United States
END:VEVENT
BEGIN:VEVENT
DTSTART;VALUE=DATE:20240818
DTEND;VALUE=DATE:20240824
DTSTAMP:20260423T095225
CREATED:20240328T213828Z
LAST-MODIFIED:20240328T213828Z
UID:10000042-1723939200-1724457599@www.elementsmagazine.org
SUMMARY:European Mineralogical Conference
DESCRIPTION:August 18 – 23 European Mineralogical Conference\, Dublin\, Ireland
URL:https://www.elementsmagazine.org/event/european-mineralogical-conference/
LOCATION:European Mineralogical Conference\, Dublin\, Ireland
END:VEVENT
BEGIN:VEVENT
DTSTART;VALUE=DATE:20240818
DTEND;VALUE=DATE:20240823
DTSTAMP:20260423T095225
CREATED:20240328T213626Z
LAST-MODIFIED:20240328T213626Z
UID:10000041-1723939200-1724371199@www.elementsmagazine.org
SUMMARY:American Chemical Society Fall Meeting
DESCRIPTION:August 18 – 22 American Chemical Society Fall Meeting\, Denver\, CO USA
URL:https://www.elementsmagazine.org/event/american-chemical-society-fall-meeting/
LOCATION:American Chemical Society Fall Meeting\, Washington\, United States
END:VEVENT
BEGIN:VEVENT
DTSTART;VALUE=DATE:20240817
DTEND;VALUE=DATE:20240819
DTSTAMP:20260423T095225
CREATED:20240328T214011Z
LAST-MODIFIED:20240328T214011Z
UID:10000043-1723852800-1724025599@www.elementsmagazine.org
SUMMARY:RiMG (Reviews in Mineralogy and Geochemistry) short course: Exoplanets: Compositions\, Mineralogy\, Evolution
DESCRIPTION:August 17 – 18 RiMG (Reviews in Mineralogy and Geochemistry) short course: Exoplanets: Compositions\, Mineralogy\, Evolution\, Chicago IL USA
URL:https://www.elementsmagazine.org/event/rimg-reviews-in-mineralogy-and-geochemistry-short-course-exoplanets-compositions-mineralogy-evolution/
LOCATION:RiMG (Reviews in Mineralogy and Geochemistry) short course: Exoplanets: Compositions\, Mineralogy\, Evolution\, Chicago\, United States
END:VEVENT
BEGIN:VEVENT
DTSTART;VALUE=DATE:20240812
DTEND;VALUE=DATE:20240814
DTSTAMP:20260423T095225
CREATED:20240328T212347Z
LAST-MODIFIED:20240328T213416Z
UID:10000040-1723420800-1723593599@www.elementsmagazine.org
SUMMARY:Museums & Mineralogy 10
DESCRIPTION:August 12 – 13 Museums & Mineralogy 10\, Cardiff\, Wales
URL:https://www.elementsmagazine.org/event/museums-mineralogy-10/
LOCATION:Museums & Mineralogy 10\, cardif
END:VEVENT
BEGIN:VEVENT
DTSTART;VALUE=DATE:20240805
DTEND;VALUE=DATE:20240810
DTSTAMP:20260423T095225
CREATED:20240328T211803Z
LAST-MODIFIED:20240328T213423Z
UID:10000039-1722816000-1723247999@www.elementsmagazine.org
SUMMARY:3rd International Training school "Empirical and Ab Initio Thermodynamic Models of Minerals and Melts
DESCRIPTION:August 5 – 9 3rd International Training school “Empirical and Ab Initio Thermodynamic Models of Minerals and Melts\, Athens\, Greece
URL:https://www.elementsmagazine.org/event/3rd-international-training-school-empirical-and-ab-initio-thermodynamic-models-of-minerals-and-melts/
LOCATION:3rd International Training school “Empirical and Ab Initio Thermodynamic Models of Minerals and Melts\, Athens\, Greece
END:VEVENT
BEGIN:VEVENT
DTSTART;VALUE=DATE:20240804
DTEND;VALUE=DATE:20240810
DTSTAMP:20260423T095225
CREATED:20240328T211624Z
LAST-MODIFIED:20240328T213433Z
UID:10000038-1722729600-1723247999@www.elementsmagazine.org
SUMMARY:Gordon Research Conference: Capturing Timescales of Rock Deformation
DESCRIPTION:August 4 – 9 Gordon Research Conference: Capturing Timescales of Rock Deformation\, Lewiston\, Maine\, USA
URL:https://www.elementsmagazine.org/event/gordon-research-conference-capturing-timescales-of-rock-deformation/
LOCATION:Gordon Research Conference: Capturing Timescales of Rock Deformation\, Lewiston\, Maine\, United States
END:VEVENT
BEGIN:VEVENT
DTSTART;VALUE=DATE:20240728
DTEND;VALUE=DATE:20240803
DTSTAMP:20260423T095225
CREATED:20240328T211253Z
LAST-MODIFIED:20240328T213451Z
UID:10000036-1722124800-1722643199@www.elementsmagazine.org
SUMMARY:87th Annual Meeting of the Meteoritical Society
DESCRIPTION:July 28 – August 2 87th Annual Meeting of the Meteoritical Society\, Brussels\, Belgium
URL:https://www.elementsmagazine.org/event/87th-annual-meeting-of-the-meteoritical-society/
LOCATION:87th Annual Meeting of the Meteoritical Society\, Brussels\, Belgium
END:VEVENT
BEGIN:VEVENT
DTSTART;VALUE=DATE:20240728
DTEND;VALUE=DATE:20240802
DTSTAMP:20260423T095225
CREATED:20240328T211454Z
LAST-MODIFIED:20240328T213442Z
UID:10000037-1722124800-1722556799@www.elementsmagazine.org
SUMMARY:Microscopy & Microanalysis 2024
DESCRIPTION:July 28 – August 1 Microscopy & Microanalysis 2024\, Cleveland\, OH USA
URL:https://www.elementsmagazine.org/event/microscopy-microanalysis-2024/
LOCATION:Microscopy & Microanalysis 2024\, Cleveland\, United States
END:VEVENT
BEGIN:VEVENT
DTSTART;VALUE=DATE:20240722
DTEND;VALUE=DATE:20240726
DTSTAMP:20260423T095225
CREATED:20240328T210746Z
LAST-MODIFIED:20240328T213500Z
UID:10000035-1721606400-1721951999@www.elementsmagazine.org
SUMMARY:Tenth International Conference on Mars
DESCRIPTION:July 22 – 25 Tenth International Conference on Mars\, Pasadena\, CA USA and Virtual
URL:https://www.elementsmagazine.org/event/tenth-international-conference-on-mars/
LOCATION:Tenth International Conference on Mars\, Pasadena\, United States
END:VEVENT
BEGIN:VEVENT
DTSTART;VALUE=DATE:20240715
DTEND;VALUE=DATE:20240720
DTSTAMP:20260423T095225
CREATED:20240328T210528Z
LAST-MODIFIED:20240328T213506Z
UID:10000034-1721001600-1721433599@www.elementsmagazine.org
SUMMARY:Tenth Annual Earth Educators' Rendezvous
DESCRIPTION:July 15 – 19 Tenth Annual Earth Educators’ Rendezvous\, Philadelphia\, PA USA
URL:https://www.elementsmagazine.org/event/tenth-annual-earth-educators-rendezvous/
LOCATION:Tenth Annual Earth Educators’ Rendezvous
END:VEVENT
BEGIN:VEVENT
DTSTART;VALUE=DATE:20240714
DTEND;VALUE=DATE:20240719
DTSTAMP:20260423T095225
CREATED:20240328T210330Z
LAST-MODIFIED:20240328T213515Z
UID:10000033-1720915200-1721347199@www.elementsmagazine.org
SUMMARY:Gordon Research Conference:  Research at High Pressure: Exploring Matter Beyond Equilibrium
DESCRIPTION:July 14 – 18 Gordon Research Conference:  Research at High Pressure: Exploring Matter Beyond Equilibrium\, Holderness\, NH USA
URL:https://www.elementsmagazine.org/event/gordon-research-conference-research-at-high-pressure-exploring-matter-beyond-equilibrium/
LOCATION:Gordon Research Conference:  Research at High Pressure: Exploring Matter Beyond Equilibrium\, Holderness\, United States
END:VEVENT
BEGIN:VEVENT
DTSTART;VALUE=DATE:20240714
DTEND;VALUE=DATE:20240719
DTSTAMP:20260423T095225
CREATED:20240328T210213Z
LAST-MODIFIED:20240328T213523Z
UID:10000032-1720915200-1721347199@www.elementsmagazine.org
SUMMARY:International Congress on Ceramics
DESCRIPTION:July 14 – 18 International Congress on Ceramics\, Montreal\, Quebec\, Canada
URL:https://www.elementsmagazine.org/event/international-congress-on-ceramics/
LOCATION:International Congress on Ceramics\, Quebec\, Canada
END:VEVENT
BEGIN:VEVENT
DTSTART;VALUE=DATE:20240708
DTEND;VALUE=DATE:20240713
DTSTAMP:20260423T095225
CREATED:20240328T210030Z
LAST-MODIFIED:20240328T213530Z
UID:10000031-1720396800-1720828799@www.elementsmagazine.org
SUMMARY:12th International Kimberlite Conference
DESCRIPTION:July 8 – 12 12th International Kimberlite Conference\, Yellowknife NT Canada
URL:https://www.elementsmagazine.org/event/12th-international-kimberlite-conference/
LOCATION:12th International Kimberlite Conference\, Yellowknife\, Canada
END:VEVENT
BEGIN:VEVENT
DTSTART;VALUE=DATE:20240708
DTEND;VALUE=DATE:20240713
DTSTAMP:20260423T095225
CREATED:20240328T205819Z
LAST-MODIFIED:20240328T213538Z
UID:10000030-1720396800-1720828799@www.elementsmagazine.org
SUMMARY:Eighth International Conference on Mars Polar Science and Exploration
DESCRIPTION:July 8 – 12 Eighth International Conference on Mars Polar Science and Exploration\, Whitehorse\, Yukon\, Canada
URL:https://www.elementsmagazine.org/event/eighth-international-conference-on-mars-polar-science-and-exploration/
LOCATION:Eighth International Conference on Mars Polar Science and Exploration\, Yukon\, Canada
END:VEVENT
BEGIN:VEVENT
DTSTART;VALUE=DATE:20240707
DTEND;VALUE=DATE:20240713
DTSTAMP:20260423T095225
CREATED:20240328T205631Z
LAST-MODIFIED:20240328T213546Z
UID:10000029-1720310400-1720828799@www.elementsmagazine.org
SUMMARY:74th American Crystallographic Association Annual Meeting
DESCRIPTION:July 7 – 12 74th American Crystallographic Association Annual Meeting\, Denver\, CO USA
URL:https://www.elementsmagazine.org/event/74th-american-crystallographic-association-annual-meeting/
LOCATION:74th American Crystallographic Association Annual Meeting\, Denver\, United States
END:VEVENT
BEGIN:VEVENT
DTSTART;VALUE=DATE:20240623
DTEND;VALUE=DATE:20240629
DTSTAMP:20260423T095225
CREATED:20240328T200325Z
LAST-MODIFIED:20240328T200325Z
UID:10000027-1719100800-1719619199@www.elementsmagazine.org
SUMMARY:Gordon Research Conference: Geochemistry of Ore Deposits for a Low Carbon Society
DESCRIPTION:June 23 – 28 Gordon Research Conference: Geochemistry of Ore Deposits for a Low Carbon Society\, Newry\, Maine USA
URL:https://www.elementsmagazine.org/event/gordon-research-conference-geochemistry-of-ore-deposits-for-a-low-carbon-society/
LOCATION:Gordon Research Conference: Geochemistry of Ore Deposits for a Low Carbon Society\, Newry\, United States
END:VEVENT
BEGIN:VEVENT
DTSTART;VALUE=DATE:20240623
DTEND;VALUE=DATE:20240628
DTSTAMP:20260423T095225
CREATED:20240328T200114Z
LAST-MODIFIED:20240328T200114Z
UID:10000026-1719100800-1719532799@www.elementsmagazine.org
SUMMARY:American Conference on Neutron Scattering (ACNS 2024)
DESCRIPTION:June 23 – 27 American Conference on Neutron Scattering (ACNS 2024)\, Knoxville\, TN USA
URL:https://www.elementsmagazine.org/event/american-conference-on-neutron-scattering-acns-2024/
LOCATION:American Conference on Neutron Scattering (ACNS 2024)\, Knoxville\, United States
END:VEVENT
BEGIN:VEVENT
DTSTART;VALUE=DATE:20240603
DTEND;VALUE=DATE:20240607
DTSTAMP:20260423T095225
CREATED:20240328T195821Z
LAST-MODIFIED:20240328T195821Z
UID:10000025-1717372800-1717718399@www.elementsmagazine.org
SUMMARY:61st Clay Minerals Society Meeting
DESCRIPTION:June 3 – 6 61st Clay Minerals Society Meeting\, Honolulu\, HI USA
URL:https://www.elementsmagazine.org/event/61st-clay-minerals-society-meeting/
LOCATION:61st Clay Minerals Society Meeting\, Honolulu\, United States
END:VEVENT
BEGIN:VEVENT
DTSTART;VALUE=DATE:20240523
DTEND;VALUE=DATE:20240525
DTSTAMP:20260423T095225
CREATED:20240328T195517Z
LAST-MODIFIED:20240328T195517Z
UID:10000024-1716422400-1716595199@www.elementsmagazine.org
SUMMARY:10th International Geosciences Conference of Young Researchers
DESCRIPTION:May 23 – 24 10th International Geosciences Conference of Young Researchers\, Kyiv\, Ukraine
URL:https://www.elementsmagazine.org/event/10th-international-geosciences-conference-of-young-researchers/
LOCATION:10th International Geosciences Conference of Young Researchers\, Kyiv\, Ukraine
END:VEVENT
BEGIN:VEVENT
DTSTART;VALUE=DATE:20240519
DTEND;VALUE=DATE:20240523
DTSTAMP:20260423T095225
CREATED:20240328T195247Z
LAST-MODIFIED:20240328T195247Z
UID:10000023-1716076800-1716422399@www.elementsmagazine.org
SUMMARY:Geological Association of Canada – Mineralogical Association of Canada Annual Meeting and 10th International Symposium on Granitic Pegmatites
DESCRIPTION:May 19 – 22 Geological Association of Canada – Mineralogical Association of Canada Annual Meeting and 10th International Symposium on Granitic Pegmatites\, Brandon\, Canada
URL:https://www.elementsmagazine.org/event/geological-association-of-canada-mineralogical-association-of-canada-annual-meeting-and-10th-international-symposium-on-granitic-pegmatites/
LOCATION:Geological Association of Canada\, Brandon\, Canada
END:VEVENT
BEGIN:VEVENT
DTSTART;VALUE=DATE:20240513
DTEND;VALUE=DATE:20240518
DTSTAMP:20260423T095225
CREATED:20240328T194841Z
LAST-MODIFIED:20240328T194841Z
UID:10000022-1715558400-1715990399@www.elementsmagazine.org
SUMMARY:Earth and Planets Origin and Evolution Workshop
DESCRIPTION:May 13 – 17 Earth and Planets Origin and Evolution Workshop
URL:https://www.elementsmagazine.org/event/earth-and-planets-origin-and-evolution-workshop/
LOCATION:Earth and Planets Origin and Evolution Workshop\, Paris\, France
END:VEVENT
BEGIN:VEVENT
DTSTART;VALUE=DATE:20240422
DTEND;VALUE=DATE:20240427
DTSTAMP:20260423T095225
CREATED:20240328T194154Z
LAST-MODIFIED:20240328T194154Z
UID:10000021-1713744000-1714175999@www.elementsmagazine.org
SUMMARY:MRS Spring Meeting
DESCRIPTION:April 22 – 26 MRS Spring Meeting\, Seattle WA\, USA
URL:https://www.elementsmagazine.org/event/mrs-spring-meeting/
LOCATION:MRS Spring Meeting\, 26 MRS Spring Meeting\, Seattle\, United States
END:VEVENT
BEGIN:VEVENT
DTSTART;VALUE=DATE:20240414
DTEND;VALUE=DATE:20240420
DTSTAMP:20260423T095225
CREATED:20240329T002334Z
LAST-MODIFIED:20240329T002334Z
UID:10000020-1713052800-1713571199@www.elementsmagazine.org
SUMMARY:EGU General Assembly
DESCRIPTION:April 14 – 19 EGU General Assembly\, Vienna\, Austria
URL:https://www.elementsmagazine.org/event/egu-general-assembly-2/
LOCATION:EGU General Assembly\, Vienna\, Vienna\, Austria
END:VEVENT
BEGIN:VEVENT
DTSTART;TZID=UTC:20240328T080000
DTEND;TZID=UTC:20240328T170000
DTSTAMP:20260423T095225
CREATED:20240328T232627Z
LAST-MODIFIED:20240328T232627Z
UID:10000062-1711612800-1711645200@www.elementsmagazine.org
SUMMARY:MRS Fall Meeting
DESCRIPTION:December 1 – 6 MRS Fall Meeting\, Boston\, MA\, USA
URL:https://www.elementsmagazine.org/event/mrs-fall-meeting/
LOCATION:MRS Fall Meeting\, Boston\, United States
END:VEVENT
BEGIN:VEVENT
DTSTART;VALUE=DATE:20240328
DTEND;VALUE=DATE:20240329
DTSTAMP:20260423T095225
CREATED:20240328T202316Z
LAST-MODIFIED:20240328T202316Z
UID:10000028-1711584000-1711670399@www.elementsmagazine.org
SUMMARY:Asia Oceania Geosciences Society (AOGS) 21st Annual Meeting
DESCRIPTION:June 23 – 28 Asia Oceania Geosciences Society (AOGS) 21st Annual Meeting\, Gangwon-do\, South Korea
URL:https://www.elementsmagazine.org/event/asia-oceania-geosciences-society-aogs-21st-annual-meeting/
LOCATION:Asia Oceania Geosciences Society (AOGS) 21st Annual Meeting\, Gangwon-do\, Korea\, Republic of
END:VEVENT
BEGIN:VEVENT
DTSTART;TZID=UTC:20240224T080000
DTEND;TZID=UTC:20240225T170000
DTSTAMP:20260423T095225
CREATED:20240221T142620Z
LAST-MODIFIED:20240221T142626Z
UID:10000011-1708761600-1708880400@www.elementsmagazine.org
SUMMARY:Dino-Lino-Print Workshop
DESCRIPTION:Come and try linocut printing in the shadow of a Megalosaurus! The advent of printing was revolutionary for the distribution of scientific diagrams and drawings\, including those of fossils. Against the backdrop of the Geological Society Library\, this beginner level workshop will give you the opportunity to unleash your creativity and print your own fossil-inspired designs. Materials will be provided.\n\nDisclaimer: not suitable for children due to the use of sharp tools.
URL:https://www.elementsmagazine.org/event/dino-lino-print-workshop/
LOCATION:Geological Society\, Burlington House\, Piccadilly\,\, London\, United Kingdom
ATTACH;FMTTYPE=image/jpeg:https://www.elementsmagazine.org/wp-content/uploads/2024/02/Buckland-4.jpg
END:VEVENT
END:VCALENDAR