BEGIN:VCALENDAR
VERSION:2.0
PRODID:-//Elements Magazine - ECPv6.15.20//NONSGML v1.0//EN
CALSCALE:GREGORIAN
METHOD:PUBLISH
X-ORIGINAL-URL:https://www.elementsmagazine.org
X-WR-CALDESC:Events for Elements Magazine
REFRESH-INTERVAL;VALUE=DURATION:PT1H
X-Robots-Tag:noindex
X-PUBLISHED-TTL:PT1H
BEGIN:VTIMEZONE
TZID:Europe/Paris
BEGIN:DAYLIGHT
TZOFFSETFROM:+0100
TZOFFSETTO:+0200
TZNAME:CEST
DTSTART:20240331T010000
END:DAYLIGHT
BEGIN:STANDARD
TZOFFSETFROM:+0200
TZOFFSETTO:+0100
TZNAME:CET
DTSTART:20241027T010000
END:STANDARD
BEGIN:DAYLIGHT
TZOFFSETFROM:+0100
TZOFFSETTO:+0200
TZNAME:CEST
DTSTART:20250330T010000
END:DAYLIGHT
BEGIN:STANDARD
TZOFFSETFROM:+0200
TZOFFSETTO:+0100
TZNAME:CET
DTSTART:20251026T010000
END:STANDARD
BEGIN:DAYLIGHT
TZOFFSETFROM:+0100
TZOFFSETTO:+0200
TZNAME:CEST
DTSTART:20260329T010000
END:DAYLIGHT
BEGIN:STANDARD
TZOFFSETFROM:+0200
TZOFFSETTO:+0100
TZNAME:CET
DTSTART:20261025T010000
END:STANDARD
END:VTIMEZONE
BEGIN:VEVENT
DTSTART;TZID=Europe/Paris:20250616T020000
DTEND;TZID=Europe/Paris:20250619T180000
DTSTAMP:20260423T080101
CREATED:20240902T090153Z
LAST-MODIFIED:20240902T090153Z
UID:10000081-1750039200-1750356000@www.elementsmagazine.org
SUMMARY:Experimental Mineralogy\, Petrology\, Geochemistry (EMPG-XIX)
DESCRIPTION:We are delighted to announce that the next Experimental Mineralogy\, Petrology\, Geochemistry meeting\, EMPG XIX\, will take place at Orléans\, France\, 16-19th June 2025.\nThe International Symposium on Experimental Mineralogy\, Petrology and Geochemistry brings together researchers from all fields of experimental geosciences and researchers with a focus on material science and numerical modelling. It offers a unique opportunity for research presentation and discussion on experimental work.
URL:https://www.elementsmagazine.org/event/experimental-mineralogy-petrology-geochemistry-empg-xix/
LOCATION:Centre de Conférence\, Place du 6 Juin 1944\, Orléans\, 45000\, France
ATTACH;FMTTYPE=image/png:https://www.elementsmagazine.org/wp-content/uploads/2024/08/IMAGE-logo.png
ORGANIZER;CN="Fabrice Gaillard":MAILTO:fabrice.gaillard@cnrs-orleans.fr
END:VEVENT
END:VCALENDAR