BEGIN:VCALENDAR
VERSION:2.0
PRODID:-//Elements Magazine - ECPv6.15.20//NONSGML v1.0//EN
CALSCALE:GREGORIAN
METHOD:PUBLISH
X-ORIGINAL-URL:https://www.elementsmagazine.org
X-WR-CALDESC:Events for Elements Magazine
REFRESH-INTERVAL;VALUE=DURATION:PT1H
X-Robots-Tag:noindex
X-PUBLISHED-TTL:PT1H
BEGIN:VTIMEZONE
TZID:UTC
BEGIN:STANDARD
TZOFFSETFROM:+0000
TZOFFSETTO:+0000
TZNAME:UTC
DTSTART:20240101T000000
END:STANDARD
END:VTIMEZONE
BEGIN:VEVENT
DTSTART;TZID=UTC:20250408T080000
DTEND;TZID=UTC:20250410T170000
DTSTAMP:20260423T080101
CREATED:20250205T133408Z
LAST-MODIFIED:20250205T133408Z
UID:10000097-1744099200-1744304400@www.elementsmagazine.org
SUMMARY:Geochemistry Group Research in Progress 2025
DESCRIPTION:The next Geochemistry Group Research in Progress (GGRiP) meeting will take place in Birmingham on the 8-10th of April 2025.
URL:https://www.elementsmagazine.org/event/geochemistry-group-research-in-progress-2025/
LOCATION:University of Birmigham\, Birmingham\, United Kingdom
ATTACH;FMTTYPE=image/jpeg:https://www.elementsmagazine.org/wp-content/uploads/2025/02/GG.jpg
ORGANIZER;CN="James Bendle":MAILTO:j.bendle@bham.ac.uk
END:VEVENT
END:VCALENDAR