BEGIN:VCALENDAR
VERSION:2.0
PRODID:-//Elements Magazine - ECPv6.15.20//NONSGML v1.0//EN
CALSCALE:GREGORIAN
METHOD:PUBLISH
X-ORIGINAL-URL:https://www.elementsmagazine.org
X-WR-CALDESC:Events for Elements Magazine
REFRESH-INTERVAL;VALUE=DURATION:PT1H
X-Robots-Tag:noindex
X-PUBLISHED-TTL:PT1H
BEGIN:VTIMEZONE
TZID:UTC
BEGIN:STANDARD
TZOFFSETFROM:+0000
TZOFFSETTO:+0000
TZNAME:UTC
DTSTART:20240101T000000
END:STANDARD
END:VTIMEZONE
BEGIN:VEVENT
DTSTART;TZID=UTC:20250409T080000
DTEND;TZID=UTC:20250510T170000
DTSTAMP:20260423T081253
CREATED:20250205T133101Z
LAST-MODIFIED:20250205T133101Z
UID:10000095-1744185600-1746896400@www.elementsmagazine.org
SUMMARY:Metamorphic Studies Group (of the Mineralogical Society of the UK and Ireland)
DESCRIPTION:This year’s MSG RiP will take place at the University of Liverpool under the stewardship of John Wheeler. \nMSG welcomes Barrow Award winner Jamie Connolly and keynote speakers Nick Roberts and Eleanor Green. Optional activities are: a MAGEmin workshop on the 8th (led by Nico Riel) and a field trip to Anglesey\, which has a variety of metamorphic rocks\, on the 11th. The Mineralogical Society registration link is above; you will be redirected to a University of Liverpool page to make the actual payment. Please input consistent information to both sites.
URL:https://www.elementsmagazine.org/event/metamorphic-studies-group-of-the-mineralogical-society-of-the-uk-and-ireland/
LOCATION:University of Liverpool\, UK\, Liverpool\, United Kingdom
ATTACH;FMTTYPE=image/png:https://www.elementsmagazine.org/wp-content/uploads/2025/02/MSG.png
ORGANIZER;CN="John Wheeler":MAILTO:johnwh@liverpool.ac.uk
END:VEVENT
END:VCALENDAR