BEGIN:VCALENDAR
VERSION:2.0
PRODID:-//Elements Magazine - ECPv6.15.20//NONSGML v1.0//EN
CALSCALE:GREGORIAN
METHOD:PUBLISH
X-WR-CALNAME:Elements Magazine
X-ORIGINAL-URL:https://www.elementsmagazine.org
X-WR-CALDESC:Events for Elements Magazine
REFRESH-INTERVAL;VALUE=DURATION:PT1H
X-Robots-Tag:noindex
X-PUBLISHED-TTL:PT1H
BEGIN:VTIMEZONE
TZID:UTC
BEGIN:STANDARD
TZOFFSETFROM:+0000
TZOFFSETTO:+0000
TZNAME:UTC
DTSTART:20240101T000000
END:STANDARD
END:VTIMEZONE
BEGIN:VEVENT
DTSTART;TZID=UTC:20250721T090000
DTEND;TZID=UTC:20250723T180000
DTSTAMP:20260423T064053
CREATED:20241206T103049Z
LAST-MODIFIED:20241206T103049Z
UID:10000089-1753088400-1753293600@www.elementsmagazine.org
SUMMARY:2nd International Summit on Applied Science\, Engineering and Technology
DESCRIPTION:Spectrum Conferences invites you to prestigious event 2nd International Summit on Applied Science\, Engineering and Technology. A premier conference focusing on the latest developments and modern trends in Applied Science\, Engineering and Technology is going to be held in Frankfurt\, Germany during July 21-23\, 2025.
URL:https://www.elementsmagazine.org/event/2nd-international-summit-on-applied-science-engineering-and-technology/
LOCATION:Frankfurt\, Germany\, Frankfurt\, Germany\, Frankfurt\, Germany\, Frankfurt\, Germany\, 60439\, Germany
ORGANIZER;CN="Spectrum Conferences":MAILTO:secretary@appliedsciencesummit.com
END:VEVENT
END:VCALENDAR